BEGIN:VCALENDAR
VERSION:2.0
PRODID:-//Renaissance Publications &amp; Educational Programs, LLC - ECPv6.15.20//NONSGML v1.0//EN
CALSCALE:GREGORIAN
METHOD:PUBLISH
X-WR-CALNAME:Renaissance Publications &amp; Educational Programs, LLC
X-ORIGINAL-URL:https://renaissancepubllc.com
X-WR-CALDESC:Events for Renaissance Publications &amp; Educational Programs, LLC
REFRESH-INTERVAL;VALUE=DURATION:PT1H
X-Robots-Tag:noindex
X-PUBLISHED-TTL:PT1H
BEGIN:VTIMEZONE
TZID:America/Halifax
BEGIN:DAYLIGHT
TZOFFSETFROM:-0400
TZOFFSETTO:-0300
TZNAME:ADT
DTSTART:20230312T060000
END:DAYLIGHT
BEGIN:STANDARD
TZOFFSETFROM:-0300
TZOFFSETTO:-0400
TZNAME:AST
DTSTART:20231105T050000
END:STANDARD
BEGIN:DAYLIGHT
TZOFFSETFROM:-0400
TZOFFSETTO:-0300
TZNAME:ADT
DTSTART:20240310T060000
END:DAYLIGHT
BEGIN:STANDARD
TZOFFSETFROM:-0300
TZOFFSETTO:-0400
TZNAME:AST
DTSTART:20241103T050000
END:STANDARD
BEGIN:DAYLIGHT
TZOFFSETFROM:-0400
TZOFFSETTO:-0300
TZNAME:ADT
DTSTART:20250309T060000
END:DAYLIGHT
BEGIN:STANDARD
TZOFFSETFROM:-0300
TZOFFSETTO:-0400
TZNAME:AST
DTSTART:20251102T050000
END:STANDARD
END:VTIMEZONE
BEGIN:VEVENT
DTSTART;TZID=America/Halifax:20240908T030000
DTEND;TZID=America/Halifax:20240908T170000
DTSTAMP:20260423T181155
CREATED:20240902T025225Z
LAST-MODIFIED:20240902T025225Z
UID:1230-1725764400-1725814800@renaissancepubllc.com
SUMMARY:History & Ancestry In Western Orangeburg County
DESCRIPTION:I will be sharing historical narratives of my maternal ancestors of the Seawright-Ellison family\, noteworthy events\, and communities in Western Orangeburg County.\nKey topics will include:\n~Local history during the antebellum period and the Civil War\n~Martha’s life during the Reconstruction Era\n~The establishment of Orangeburg County\n~The contributions of three African American men to the founding of Aiken County that included Orangeburg County involvement.\n~The history of Salley\, South Carolina\n~And significant events in the Orangeburg County towns of Livingston and the Sawyerdale community\, all interwoven with the Seawright-Ellison family narrative.\nMy book\, The Awakening: The Seawright-Ellison Family Saga\, Vol.1\, A Narrative History\, will available for sale.\nThe presentation is sponsored by South Carolina Humanities and South State Bank.
URL:https://renaissancepubllc.com/event/history-ancestry-in-western-orangeburg-county/
LOCATION:Orangeburg County Historical Society\, 1421 Middleton Street\, Orangeburg\, SC\, 29115\, United States
ATTACH;FMTTYPE=image/png:https://renaissancepubllc.com/wp-content/uploads/2024/09/Dr-Walter-Curry-Event-Flyer.png
END:VEVENT
END:VCALENDAR