BEGIN:VCALENDAR
VERSION:2.0
PRODID:-//Renaissance Publications &amp; Educational Programs, LLC - ECPv6.15.20//NONSGML v1.0//EN
CALSCALE:GREGORIAN
METHOD:PUBLISH
X-ORIGINAL-URL:https://renaissancepubllc.com
X-WR-CALDESC:Events for Renaissance Publications &amp; Educational Programs, LLC
REFRESH-INTERVAL;VALUE=DURATION:PT1H
X-Robots-Tag:noindex
X-PUBLISHED-TTL:PT1H
BEGIN:VTIMEZONE
TZID:America/Halifax
BEGIN:DAYLIGHT
TZOFFSETFROM:-0400
TZOFFSETTO:-0300
TZNAME:ADT
DTSTART:20230312T060000
END:DAYLIGHT
BEGIN:STANDARD
TZOFFSETFROM:-0300
TZOFFSETTO:-0400
TZNAME:AST
DTSTART:20231105T050000
END:STANDARD
BEGIN:DAYLIGHT
TZOFFSETFROM:-0400
TZOFFSETTO:-0300
TZNAME:ADT
DTSTART:20240310T060000
END:DAYLIGHT
BEGIN:STANDARD
TZOFFSETFROM:-0300
TZOFFSETTO:-0400
TZNAME:AST
DTSTART:20241103T050000
END:STANDARD
BEGIN:DAYLIGHT
TZOFFSETFROM:-0400
TZOFFSETTO:-0300
TZNAME:ADT
DTSTART:20250309T060000
END:DAYLIGHT
BEGIN:STANDARD
TZOFFSETFROM:-0300
TZOFFSETTO:-0400
TZNAME:AST
DTSTART:20251102T050000
END:STANDARD
END:VTIMEZONE
BEGIN:VEVENT
DTSTART;TZID=America/Halifax:20240619T100000
DTEND;TZID=America/Halifax:20240619T140000
DTSTAMP:20260423T224810
CREATED:20240506T143529Z
LAST-MODIFIED:20240506T143529Z
UID:1215-1718791200-1718805600@renaissancepubllc.com
SUMMARY:Umoja Village Founders Day at Eudora Farms
DESCRIPTION:Juneteenth Celebration is around the corner and things are going to get wild celebrating Umoja Village Founders Day at Eudora Farms near Salley\, South Carolina! I will be one of the presenters and looking forward to the celebration! Come out\, enjoy\, learn\, and have fun! Details of the event are mentioned in the flyer!
URL:https://renaissancepubllc.com/event/umoja-village-founders-day-at-eudora-farms/
LOCATION:Eudora Farms\, 219 Salem Lane\, Salley\, SC\, 29137\, United States
ATTACH;FMTTYPE=image/jpeg:https://renaissancepubllc.com/wp-content/uploads/2024/05/Eudora-Farms-Wildlife-Safari.jpg
END:VEVENT
END:VCALENDAR