BEGIN:VCALENDAR
VERSION:2.0
PRODID:-//Renaissance Publications &amp; Educational Programs, LLC - ECPv6.15.20//NONSGML v1.0//EN
CALSCALE:GREGORIAN
METHOD:PUBLISH
X-ORIGINAL-URL:https://renaissancepubllc.com
X-WR-CALDESC:Events for Renaissance Publications &amp; Educational Programs, LLC
REFRESH-INTERVAL;VALUE=DURATION:PT1H
X-Robots-Tag:noindex
X-PUBLISHED-TTL:PT1H
BEGIN:VTIMEZONE
TZID:America/Halifax
BEGIN:DAYLIGHT
TZOFFSETFROM:-0400
TZOFFSETTO:-0300
TZNAME:ADT
DTSTART:20240310T060000
END:DAYLIGHT
BEGIN:STANDARD
TZOFFSETFROM:-0300
TZOFFSETTO:-0400
TZNAME:AST
DTSTART:20241103T050000
END:STANDARD
BEGIN:DAYLIGHT
TZOFFSETFROM:-0400
TZOFFSETTO:-0300
TZNAME:ADT
DTSTART:20250309T060000
END:DAYLIGHT
BEGIN:STANDARD
TZOFFSETFROM:-0300
TZOFFSETTO:-0400
TZNAME:AST
DTSTART:20251102T050000
END:STANDARD
BEGIN:DAYLIGHT
TZOFFSETFROM:-0400
TZOFFSETTO:-0300
TZNAME:ADT
DTSTART:20260308T060000
END:DAYLIGHT
BEGIN:STANDARD
TZOFFSETFROM:-0300
TZOFFSETTO:-0400
TZNAME:AST
DTSTART:20261101T050000
END:STANDARD
END:VTIMEZONE
BEGIN:VEVENT
DTSTART;TZID=America/Halifax:20250211T160000
DTEND;TZID=America/Halifax:20250211T170000
DTSTAMP:20260421T141523
CREATED:20250211T040959Z
LAST-MODIFIED:20250211T040959Z
UID:1287-1739289600-1739293200@renaissancepubllc.com
SUMMARY:Author Talk: Dr. Walter B. Curry\, Jr.
DESCRIPTION:Award-winning author Dr. Walter B. Curry\, Jr. will give a presentation on The Thompson Family: Untold Stories from the Past. He will chronicle the rich history of this prominent African American family from Salley\, South Carolina featuring stories of individuals who were enslaved. Books will be available for purchase. Presented in partnership with South Carolina Humanities.
URL:https://renaissancepubllc.com/event/author-talk-dr-walter-b-curry-jr/
LOCATION:Swansea Branch Library\, 199 N. Lawrence Avenue\, Swansea\, United States\, 29160
ATTACH;FMTTYPE=image/jpeg:https://renaissancepubllc.com/wp-content/uploads/2025/02/Author-Swansea.jpg
END:VEVENT
END:VCALENDAR