BEGIN:VCALENDAR
VERSION:2.0
PRODID:-//Renaissance Publications &amp; Educational Programs, LLC - ECPv6.15.20//NONSGML v1.0//EN
CALSCALE:GREGORIAN
METHOD:PUBLISH
X-WR-CALNAME:Renaissance Publications &amp; Educational Programs, LLC
X-ORIGINAL-URL:https://renaissancepubllc.com
X-WR-CALDESC:Events for Renaissance Publications &amp; Educational Programs, LLC
REFRESH-INTERVAL;VALUE=DURATION:PT1H
X-Robots-Tag:noindex
X-PUBLISHED-TTL:PT1H
BEGIN:VTIMEZONE
TZID:America/Halifax
BEGIN:DAYLIGHT
TZOFFSETFROM:-0400
TZOFFSETTO:-0300
TZNAME:ADT
DTSTART:20230312T060000
END:DAYLIGHT
BEGIN:STANDARD
TZOFFSETFROM:-0300
TZOFFSETTO:-0400
TZNAME:AST
DTSTART:20231105T050000
END:STANDARD
BEGIN:DAYLIGHT
TZOFFSETFROM:-0400
TZOFFSETTO:-0300
TZNAME:ADT
DTSTART:20240310T060000
END:DAYLIGHT
BEGIN:STANDARD
TZOFFSETFROM:-0300
TZOFFSETTO:-0400
TZNAME:AST
DTSTART:20241103T050000
END:STANDARD
BEGIN:DAYLIGHT
TZOFFSETFROM:-0400
TZOFFSETTO:-0300
TZNAME:ADT
DTSTART:20250309T060000
END:DAYLIGHT
BEGIN:STANDARD
TZOFFSETFROM:-0300
TZOFFSETTO:-0400
TZNAME:AST
DTSTART:20251102T050000
END:STANDARD
END:VTIMEZONE
BEGIN:VEVENT
DTSTART;TZID=America/Halifax:20240825T150000
DTEND;TZID=America/Halifax:20240825T170000
DTSTAMP:20260423T210608
CREATED:20240819T040121Z
LAST-MODIFIED:20240819T040121Z
UID:1225-1724598000-1724605200@renaissancepubllc.com
SUMMARY:Lee County Arts Council-
DESCRIPTION:Join Dr. Curry on Sunday\, August 25th\, 2024\, in Bishopville\, SC\, for the opening reception of my artwork and an artist talk at 3 p.m. at the Bishopville Opera House-Lee County Arts Council.\nCall (803) 484-5090 or message me for more information. The artist talk is proudly sponsored by South Carolina Humanities.\nIf you are an artist looking an opportunity to showcase interested in a potential opportunity to exhibit your work\, you are invited and will be publicly recognized.
URL:https://renaissancepubllc.com/event/lee-county-arts-council/
LOCATION:Bishopville Opera House-Lee County Arts Council\, 109 N. Main Street\, Bishopville\, SC\, United States
ATTACH;FMTTYPE=image/jpeg:https://renaissancepubllc.com/wp-content/uploads/2024/08/Lee-County-Arts-Council.jpeg
END:VEVENT
END:VCALENDAR