BEGIN:VCALENDAR
VERSION:2.0
PRODID:-//Renaissance Publications &amp; Educational Programs, LLC - ECPv6.15.20//NONSGML v1.0//EN
CALSCALE:GREGORIAN
METHOD:PUBLISH
X-WR-CALNAME:Renaissance Publications &amp; Educational Programs, LLC
X-ORIGINAL-URL:https://renaissancepubllc.com
X-WR-CALDESC:Events for Renaissance Publications &amp; Educational Programs, LLC
REFRESH-INTERVAL;VALUE=DURATION:PT1H
X-Robots-Tag:noindex
X-PUBLISHED-TTL:PT1H
BEGIN:VTIMEZONE
TZID:America/Halifax
BEGIN:DAYLIGHT
TZOFFSETFROM:-0400
TZOFFSETTO:-0300
TZNAME:ADT
DTSTART:20230312T060000
END:DAYLIGHT
BEGIN:STANDARD
TZOFFSETFROM:-0300
TZOFFSETTO:-0400
TZNAME:AST
DTSTART:20231105T050000
END:STANDARD
BEGIN:DAYLIGHT
TZOFFSETFROM:-0400
TZOFFSETTO:-0300
TZNAME:ADT
DTSTART:20240310T060000
END:DAYLIGHT
BEGIN:STANDARD
TZOFFSETFROM:-0300
TZOFFSETTO:-0400
TZNAME:AST
DTSTART:20241103T050000
END:STANDARD
BEGIN:DAYLIGHT
TZOFFSETFROM:-0400
TZOFFSETTO:-0300
TZNAME:ADT
DTSTART:20250309T060000
END:DAYLIGHT
BEGIN:STANDARD
TZOFFSETFROM:-0300
TZOFFSETTO:-0400
TZNAME:AST
DTSTART:20251102T050000
END:STANDARD
END:VTIMEZONE
BEGIN:VEVENT
DTSTART;TZID=America/Halifax:20240824T130000
DTEND;TZID=America/Halifax:20240824T143000
DTSTAMP:20260423T210608
CREATED:20240819T031021Z
LAST-MODIFIED:20240819T031021Z
UID:1220-1724504400-1724509800@renaissancepubllc.com
SUMMARY:Battle of Rivers Bridge State Historic Site
DESCRIPTION:Dr. Walter B. Curry\, Jr.\, invites you to embark on a journey with him as he unravels the life story of his ancestor\, Lavinia Thompson. Lavinia served as an enslaved cook in the Confederate Army. Lavinia’s compelling narrative unfolds in this PowerPoint presentation\, recounting her experience of slavery and experience during the Civil War. This FREE presentation will be held at the Park Office/Community Building and is sponsored by South Carolina Humanities. \nDETAILS
URL:https://renaissancepubllc.com/event/battle-of-rivers-bridge-state-historic-site/
LOCATION:Battle of Rivers Bridge State Historic Site\, 325 State Park Road\, Columbia\, SC\, 29229\, United States
ATTACH;FMTTYPE=image/jpeg:https://renaissancepubllc.com/wp-content/uploads/2024/08/River-Bridge-Bridge-State-Park-Event.jpeg
END:VEVENT
END:VCALENDAR